Workbook

Sheet 2017
C2: TRƯỜNG CAO ĐẲNG LÝ TỰ TRỌNG | M2: CỘNG HÒA XÃ HỘI CHỦ NGHĨA VIỆT NAM
C3: THÀNH PHỐ HỒ CHÍ MINH | M3: Độc lập - Tự do - Hạnh phúc
C4: TRUNG TÂM QUAN HỆ DOANH NGHIỆP
M5: Tp. Hồ Chí Minh, ngày 06 tháng 8 năm 2020
A6: SỐ LƯỢNG HỌC SINH SINH VIÊN TỐT NGHIỆP NĂM 2017
A8: TT | B8: Số QĐ | C8: Nội dung | D8: Số lượng HSSV tốt nghiệp | T8: Ghi chú
D9: Cao đẳng | L9: Trung cấp
D10: Tổng | E10: CK | F10: ĐL | G10: Đ-ĐT | H10: NL | I10: CNTT | J10: May-TT | K10: KT | L10: Tổng | M10: CK | N10: ĐL | O10: Đ-ĐT | P10: NL | Q10: CNTT | R10: May-TT | S10: KT
A11: 1 | B11: 163/QĐ-LTT-ĐT ngày 06/3/2017 | C11: Quyết định số 163/QĐ-LTT-ĐT ngày 06/3/2017 Về việc công nhận tốt nghiệp Trung cấp chuyên nghiệp, hệ chính quy, Kỳ thi tháng 02/2017 | D11: =SUM(E11:K11) -> 0 | L11: =SUM(M11:S11) -> 32 | M11: =1+9 -> 10 | N11: 10 | O11: =1+3 -> 4 | P11: =1 -> 1 | Q11: =1+4 -> 5 | R11: 2
A12: 2 | B12: 164/QĐ-LTT-ĐT ngày 06/3/2017 | C12: Quyết định số 164/QĐ-LTT-ĐT ngày 06/3/2017 Về việc công nhận tốt nghiệp Cao đẳng, hệ chính quy | D12: =SUM(E12:K12) -> 45 | E12: 14 | F12: 6 | G12: 15 | I12: 8 | J12: 2
A13: 3 | B13: 868/QĐ-LTT-ĐT ngày 28/8/2017 | C13: Quyết định số 868/QĐ-LTT-ĐT ngày 28/8/2017 Về việc công nhận tốt nghiệp Cao đẳng, hệ chính quy cho sinh viên khóa 14CĐ, 15LTCĐ và các khóa cũ trả nợ học phần. | D13: =SUM(E13:K13) -> 457 | E13: =13+62+6 -> 81 | F13: =8+119+11 -> 138 | G13: =1+4+26+88+22 -> 141 | H13: =1+18 -> 19 | I13: =1+5+45 -> 51 | J13: =27 -> 27 | L13: =SUM(M13:S13) -> 0
A14: 4 | B14: 947/QĐ-LTT-ĐT ngày 18/9/2017 | C14: Quyết định số 947/QĐ-LTT-ĐT ngày 18/9/2017 Về việc công nhận tốt nghiệp Trung cấp chuyên nghiệp, hệ chính quy cho học sinh khóa 15TCT, 15TN và các khóa cũ thi lại. | D14: =SUM(E14:K14) -> 0 | L14: =SUM(M14:S14) -> 71 | M14: =5+3+9+1 -> 18 | N14: =1+3+3+2+4 -> 13 | O14: =5+4+6+1+1 -> 17 | P14: =1+2+4+5 -> 12 | Q14: =1+1+3+1 -> 6 | R14: =2+2+1 -> 5 | T14: Xuân Thơ
A15: 5 | B15: 1025/QĐ-LTT-ĐT ngày 12/10/2017 | C15: Quyết định số 1025/QĐ-LTT-ĐT ngày 12/10/2017 Về việc công nhận tốt nghiệp Cao đẳng, hệ chính quy cho sinh viên khóa 14CĐ và khóa cũ trả nợ học phần (Đợt bổ sung) | D15: =SUM(E15:K15) -> 22 | E15: 12 | F15: 9 | H15: =1 -> 1 | L15: =SUM(M15:S15) -> 0
A16: Tổng | C16: ="Tổng năm 2017: "&(D16+L16) -> Tổng năm 2017: 627 | D16: =SUM(D11:D15) -> 524 | E16: =SUM(E11:E15) -> 107 | F16: =SUM(F11:F15) -> 153 | G16: =SUM(G11:G15) -> 156 | H16: =SUM(H11:H15) -> 20 | I16: =SUM(I11:I15) -> 59 | J16: =SUM(J11:J15) -> 29 | K16: =SUM(K11:K15) -> 0 | ... S16: =SUM(S11:S15) -> 0
E17: =E16+M16 -> 135 | F17: =F16+N16 -> 176 | G17: =G16+O16 -> 177 | H17: =H16+P16 -> 33 | I17: =I16+Q16 -> 70 | J17: =J16+R16 -> 36 | K17: =K16+S16 -> 0
O18: TRƯỞNG TRUNG TÂM QHDN

Sheet 2018
C2: TRƯỜNG CAO ĐẲNG LÝ TỰ TRỌNG | M2: CỘNG HÒA XÃ HỘI CHỦ NGHĨA VIỆT NAM
C3: THÀNH PHỐ HỒ CHÍ MINH | M3: Độc lập - Tự do - Hạnh phúc
C4: TRUNG TÂM QUAN HỆ DOANH NGHIỆP
M5: Tp. Hồ Chí Minh, ngày 29 tháng 7 năm 2020
A6: SỐ LƯỢNG HỌC SINH SINH VIÊN TỐT NGHIỆP NĂM 2018
A8: TT | B8: Số QĐ | C8: Nội dung | D8: Số lượng HSSV tốt nghiệp | T8: Ghi chú
D9: Cao đẳng | L9: Trung cấp
D10: Tổng | E10: CK | F10: ĐL | G10: Đ-ĐT | H10: NL | I10: CNTT | J10: May-TT | K10: KT | L10: Tổng | M10: CK | N10: ĐL | O10: Đ-ĐT | P10: NL | Q10: CNTT | R10: May-TT | S10: KT
A11: 1 | B11: 199/QĐ-LTT-ĐT ngày 12/3/2018 | C11: Quyết định số 199/QĐ-LTT-ĐT ngày 12/3/2018 Về việc công nhận tốt nghiệp Trung cấp chuyên nghiệp, hệ chính quy cho học sinh các khóa cũ thi lại, Kỳ thi tháng 01/2018 | D11: =SUM(E11:K11) -> 0 | L11: =SUM(M11:S11) -> 30 | M11: 5 | N11: 3 | O11: 7 | P11: 9 | Q11: 5 | R11: 1 | S11: 0
A12: 2 | B12: 213/QĐ-LTT-ĐT ngày 14/3/2018 | C12: Quyết định số 213/QĐ-LTT-ĐT ngày 14/3/2018 Về việc công nhận tốt nghiệp cao đẳng, hệ chính quy cho sinh viên trả nợ học phần (đợt xét tháng 3/2018) | D12: =SUM(E12:K12) -> 57 | E12: 15 | F12: 4 | G12: 18 | H12: 8 | I12: 6 | J12: 6 | K12: 0
A13: 3 | B13: 908/QĐ-LTT-ĐT ngày 13/8/2018 | C13: Quyết định số 908/QĐ-LTT-ĐT ngày 13/8/2018 Về việc công nhận đủ điều kiện tốt nghiệp Trung cấp nghề, hệ chính quy cho học sinh khóa 15TCN | D13: =SUM(E13:K13) -> 0 | L13: =SUM(M13:S13) -> 45 | M13: 1 | N13: 5 | O13: 9 | P13: 3 | Q13: 13 | R13: 2 | S13: 12
A14: 4 | B14: 859/QĐ-LTT-ĐT ngày 07/8/2018 | C14: Quyết định số 859/QĐ-LTT-ĐT ngày 07/8/2018 Về việc công nhận tốt nghiệp Cao đẳng nghề, hệ chính quy cho sinh viên khóa 15CĐ, 16LTCĐ và các khóa cũ trả nợ học phần | D14: =SUM(E14:K14) -> 749 | E14: =11+152 -> 163 | F14: =1+13+164+12 -> 190 | G14: =13+13+92+19 -> 137 | H14: =1+1+47 -> 49 | I14: =3+8+89 -> 100 | J14: 110
A15: 5 | B15: 909/QĐ-LTT-ĐT ngày 13/8/2018 | C15: Quyết định 909/QĐ-LTT-ĐT ngày 13/8/2018 Về việc công nhận đủ điều kiện tốt nghiệp Cao đẳng nghề, hệ chính quy cho sinh viên khóa 15CĐN | D15: =SUM(E15:K15) -> 23 | E15: 0 | F15: 12 | G15: 0 | H15: 0 | I15: 0 | J15: 0 | K15: 11 | L15: =SUM(M15:S15) -> 0
A16: 6 | B16: 906/QĐ-LTT-ĐT ngày 22/8/2018 | C16: Quyết định số 906/QĐ-LTT-ĐT ngày 22/8/2018 Về việc công nhận đủ điều kiện tốt nghiệp Trung cấp chuyên nghiệp, hệ chính quy cho học sinh khóa 15TC(9+3), 16TCT(12+2N3T) và các khóa cũ thi lại, Kỳ thi tháng 7/2018 | D16: =SUM(E16:K16) -> 0 | L16: =SUM(M16:S16) -> 43 | M16: =2 -> 2 | N16: =2+7+2+3 -> 14 | O16: =6+2+1+4+5 -> 18 | P16: =1+1 -> 2 | Q16: =3+2+1+1 -> 7
A17: 7 | B17: 991/QĐ-LTT-ĐT ngày 18/9/2018 | C17: Quyết định 991/QĐ-LTT-ĐT ngày 18/9/2018 Về việc công nhận bổ sung tốt nghiệp Trung cấp chuyên nghiệp, hệ chính quy cho học sinh khóa 15TN(12+2), 15TCT(12+2N3T) thi lại, Kỳ thi tháng 7/2018 | D17: =SUM(E17:K17) -> 0 | L17: =SUM(M17:S17) -> 2 | M17: 1 | O17: 1
A18: 8 | B18: 1082/QĐ-LTT-ĐT ngày 05/10/2018 | C18: Quyết định 1082/QĐ-LTT-ĐT ngày 05/10/2018 Về việc công nhận tốt nghiệp Cao đẳng, hệ chính quy cho sinh viên khóa 15CĐ và khóa cũ trả nợ học phần (đợt bổ sung) | D18: =SUM(E18:K18) -> 146 | E18: =12+48 -> 60 | F18: 11 | G18: =1+32 -> 33 | H18: =10 -> 10 | J18: =1+31 -> 32 | L18: =SUM(M18:S18) -> 0
A19: 9 | B19: 1119/QĐ-LTT-ĐT ngày 11/10/2018 | C19: Quyết định 1119/QĐ-LTT-ĐT ngày 11/10/2018 Về việc công nhận tốt nghiệp Trung cấp, hệ chính quy cho học sinh khóa 17T2 (12+1N3T), Tháng 10/2018 | D19: =SUM(E19:K19) -> 0 | L19: =SUM(M19:S19) -> 15 | O19: 6 | Q19: 9
A20: Tổng | C20: ="Cả năm 2018: "&(D20+L20) -> Cả năm 2018: 1110 | D20: =SUM(D11:D19) -> 975 | E20: =SUM(E11:E19) -> 238 | F20: =SUM(F11:F19) -> 217 | G20: =SUM(G11:G19) -> 188 | H20: =SUM(H11:H19) -> 67 | I20: =SUM(I11:I19) -> 106 | J20: =SUM(J11:J19) -> 148 | K20: =SUM(K11:K19) -> 11 | ... S20: =SUM(S11:S19) -> 12
E21: =E20+M20 -> 247 | F21: =F20+N20 -> 239 | G21: =G20+O20 -> 229 | H21: =H20+P20 -> 81 | I21: =I20+Q20 -> 140 | J21: =J20+R20 -> 151 | K21: =K20+S20 -> 23
O22: TRƯỞNG TRUNG TÂM QHDN

Sheet 2019
C2: TRƯỜNG CAO ĐẲNG LÝ TỰ TRỌNG | N2: CỘNG HÒA XÃ HỘI CHỦ NGHĨA VIỆT NAM
C3: THÀNH PHỐ HỒ CHÍ MINH | N3: Độc lập - Tự do - Hạnh phúc
C4: TRUNG TÂM QUAN HỆ DOANH NGHIỆP
N5: Tp. Hồ Chí Minh, ngày 06 tháng 8 năm 2020
A6: SỐ LƯỢNG HỌC SINH SINH VIÊN TỐT NGHIỆP NĂM 2019
A8: TT | B8: Số QĐ | C8: Nội dung | D8: Số lượng HSSV tốt nghiệp | V8: Ghi chú
D9: Cao đẳng | M9: Trung cấp
D10: Tổng | E10: CK | F10: ĐL | G10: Đ-ĐT | H10: NL | I10: CNTT | J10: May-TT | K10: KT | L10: NN | M10: Tổng | N10: CK | O10: ĐL | P10: Đ-ĐT | Q10: NL | R10: CNTT | S10: May-TT | T10: KT | U10: NN
A11: 1 | B11: 278/QĐ-LTT-ĐT ngày 26/3/2019 | C11: Quyết định số 278/QĐ-LTT-ĐT ngày 26/3/2019 Về việc công nhận tốt nghiệp cao đẳng, hệ chính quy cho sinh viên các khóa cũ trả nợ học phần (Đợt xét tháng 3/2019) | D11: =SUM(E11:L11) -> 154 | E11: =3+37 -> 40 | F11: =6+16+3 -> 25 | G11: =4+59 -> 63 | H11: =1+3 -> 4 | I11: =1+1+20 -> 22 | M11: =SUM(N11:T11) -> 0
A12: 2 | B12: 283/QĐ-LTT-ĐT ngày 27/3/2019 | C12: Quyết định số 283/QĐ-LTT-ĐT ngày 27/3/2019 Về việc công nhận tốt nghiệp Trung cấp chuyên nghiệp, Trung cấp nghề, Trung cấp, hệ chính quy cho học sinh các khóa cũ thi lại kỳ thi tháng 01/2019 và xét tháng 3/2019 diện trả nợ học phần. | D12: =SUM(E12:L12) -> 0 | M12: =SUM(N12:T12) -> 31 | N12: =1 -> 1 | O12: =3+6+10 -> 19 | P12: =5 -> 5 | Q12: =3 -> 3 | R12: =1+2 -> 3 | V12: Xuân Thơ
B13: 336/QĐ-LTT-ĐT ngày 09/4/2019 | C13: Quyết định số 336/QĐ-LTT-ĐT ngày 09/4/2019 Về việc công nhận tốt nghiệp Trung cấp chuyên nghiệp, hệ chính quy cho học sinh các khóa cũ thi lại kỳ thi tháng 01/2019. | D13: =SUM(E13:L13) -> 0 | M13: =SUM(N13:T13) -> 1 | P13: 1 | V13: Xuân Thơ
B14: 920/QĐ-LTT-ĐT ngày 19/8/2019 | C14: Quyết định số 920/QĐ-LTT-ĐT ngày 19/8/2019 Về việc công nhận tốt nghiệp Trung cấp chuyên nghiệp, Cao đẳng nghề hệ chính quy cho học sinh, sinh viên khóa 16TC (9+3), 16CĐN (12+3) và các khóa cũ thi lại. Kỳ thi tháng 7/2019. | D14: =SUM(E14:L14) -> 32 | F14: =17 -> 17 | L14: =1+14 -> 15 | M14: =SUM(N14:T14) -> 31 | O14: =1+2+7 -> 10 | P14: =4+6 -> 10 | R14: =1+3 -> 4 | S14: 7 | V14: Xuân Thơ
B15: 939/QĐ-LTT-ĐT ngày 28/8/2019 | C15: Quyết định số 939/QĐ-LTT-ĐT ngày 28/8/2019 Về việc công nhận tốt nghiệp Trung cấp nghề, Trung cấp hệ chính quy cho học sinh khóa 16TCN (9+3) và khóa cũ thi lại - Kỳ thi tháng 8/2019 và xét tháng 8/2019 diện trả nợ học phần. | D15: =SUM(E15:L15) -> 0 | M15: =SUM(N15:T15) -> 90 | N15: =1+14 -> 15 | O15: =6+7 -> 13 | P15: =7+11 -> 18 | Q15: =3+4 -> 7 | R15: =5+11 -> 16 | S15: =1 -> 1 | T15: =9+11 -> 20
B16: 946/QĐ-LTT-ĐT ngày 29/8/2019 | C16: Quyết định số 946/QĐ-LTT-ĐT ngày 29/8/2019 Về việc công nhận tốt nghiệp cao đẳng, hệ chính quy cho sinh viên 16CĐ và các khóa cũ trả nợ học phần. | D16: =SUM(E16:L16) -> 859 | E16: =1+24+107 -> 132 | F16: =1+6+15+266 -> 288 | G16: =3+2+32+150 -> 187 | H16: =3+7+85 -> 95 | I16: =10+79 -> 89 | J16: =68 -> 68 | M16: =SUM(N16:T16) -> 0
B17: 1195/QĐ-LTT-ĐT ngày 10/10/2019 | C17: Quyết định số 1195/QĐ-LTT-ĐT ngày 10/10/2019 Về việc công nhận tốt nghiệp cao đẳng, hệ chính quy cho sinh viên khóa 16CĐ và các khóa cũ trả nợ học phần. (Đợt bổ sung). | D17: =SUM(E17:L17) -> 99 | E17: =14 -> 14 | F17: =26 -> 26 | G17: =4+27 -> 31 | H17: =1 -> 1 | I17: =2+24 -> 26 | J17: =1 -> 1 | M17: =SUM(N17:T17) -> 0
B18: 1546/QĐ-LTT-ĐT ngày 14/12/2019 | C18: Quyết định số 1546/QĐ-LTT-ĐT ngày 14/12/2019 Về việc công nhận tốt nghiệp cao đẳng, hệ chính quy cho sinh viên khóa 17C1 và các khóa cũ trả nợ học phần. | D18: =SUM(E18:L18) -> 1196 | E18: =8+39+21+200 -> 268 | F18: =2+375 -> 377 | G18: =1+3+182 -> 186 | H18: =1+22+24+69 -> 116 | I18: =6+8+92 -> 106 | J18: =65 -> 65 | K18: 54 | L18: 24 | M18: =SUM(N18:T18) -> 0 | W18: =1196-D18 -> 0
A19: Tổng | C19: ="Cả năm 2019: "&(D19+M19) -> Cả năm 2019: 2493 | D19: =SUM(D11:D18) -> 2340 | E19: =SUM(E11:E18) -> 454 | F19: =SUM(F11:F18) -> 733 | G19: =SUM(G11:G18) -> 467 | H19: =SUM(H11:H18) -> 216 | I19: =SUM(I11:I18) -> 243 | J19: =SUM(J11:J18) -> 134 | K19: =SUM(K11:K18) -> 54 | ... U19: =SUM(U11:U18) -> 0
A20: Tổng theo khoa | E20: =E19+N19 -> 470 | F20: =F19+O19 -> 775 | G20: =G19+P19 -> 501 | H20: =H19+Q19 -> 226 | I20: =I19+R19 -> 266 | J20: =J19+S19 -> 142 | K20: =K19+T19 -> 74 | L20: =L19+U19 -> 39
P21: TRƯỞNG TRUNG TÂM QHDN

Sheet 2020
C2: TRƯỜNG CAO ĐẲNG LÝ TỰ TRỌNG | P2: CỘNG HÒA XÃ HỘI CHỦ NGHĨA VIỆT NAM
C3: THÀNH PHỐ HỒ CHÍ MINH | P3: Độc lập - Tự do - Hạnh phúc
C4: TRUNG TÂM QUAN HỆ DOANH NGHIỆP | P4: Tp. Hồ Chí Minh, ngày 29 tháng 7 năm 2020
A5: SỐ LƯỢNG HỌC SINH SINH VIÊN TỐT NGHIỆP NĂM 2020
A7: TT | B7: Số QĐ | C7: Nội dung | D7: Số lượng HSSV tốt nghiệp | X7: Ghi chú
D8: Cao đẳng | N8: Trung cấp
D9: Tổng | E9: CK | F9: ĐL | G9: Đ-ĐT | H9: NL | I9: CNTT | J9: May-TT | K9: KT | L9: XD | M9: NN | N9: Tổng | O9: CK | P9: ĐL | Q9: Đ-ĐT | R9: NL | S9: CNTT | T9: May-TT | U9: KT | V9: XD | W9: NN
A10: 1 | B10: 117/QĐ-LTT-ĐT ngày 13/02/2020 | C10: Quyết định 117/QĐ-LTT-ĐT ngày 13/02/2020 Về việc công nhận đủ điều kiện tốt nghiệp Trung cấp, hệ chính quy cho học sinh khóa 18T5 (12+1), và 18T6(12+1N3T)- Đợt xét tháng 01/2020 | D10: =SUM(E10:M10) -> 0 | N10: =SUM(O10:W10) -> 34 | Q10: 34
A11: 2 | B11: 171/QĐ-LTT-ĐT ngày 05/3/2020 | C11: Quyết định 171/QĐ-LTT-ĐT ngày 05/3/2020 Về việc công nhận đủ điều kiện tốt nghiệp Trung cấp, hệ chính quy cho học sinh khóa 18T2 (12+1N3T)- Đợt xét tháng 02/2020 | D11: =SUM(E11:M11) -> 0 | N11: =SUM(O11:W11) -> 19 | P11: 19
A12: 3 | B12: 260/QĐ-LTT-ĐT ngày 26/3/2020 | C12: Quyết định 260/QĐ-LTT-ĐT ngày 26/3/2020 Về việc công nhận đủ điều kiện tốt nghiệp cao đẳng, hệ chính quy cho sinh viên các khóa cũ trả nợ học phần. | D12: =SUM(E12:M12) -> 166 | E12: =1+4+20 -> 25 | F12: =5+19+19 -> 43 | G12: =5+22+31 -> 58 | H12: =1+6 -> 7 | I12: =1+5+12 -> 18 | J12: =3 -> 3 | K12: 6 | M12: 6 | N12: =SUM(O12:W12) -> 0 | Y12: =94-64+1 -> 31
A13: 4 | B13: 685/QĐ-LTT-ĐT ngày 15/7/2020 | C13: Quyết định 685/QĐ-LTT-ĐT ngày 15/7/2020 Về việc công nhận đủ điều kiện tốt nghiệp Trung cấp chuyên nghiệp, Trung cấp nghề, Cao đẳng nghề, Trung cấp nghề hệ chính quy cho học sinh khóa 18T2 (12+1N3T)- Đợt xét tháng 7/2020 | D13: =SUM(E13:M13) -> 16 | F13: =15 -> 15 | K13: =1 -> 1 | N13: =SUM(O13:W13) -> 36 | O13: =1 -> 1 | P13: =2+1 -> 3 | Q13: =3+1+6 -> 10 | R13: =1+2 -> 3 | S13: =1+1+5+8+1 -> 16 | U13: =3 -> 3
A14: 5 | D14: =SUM(E14:M14) -> 0 | N14: =SUM(O14:W14) -> 0
A15: 6 | D15: =SUM(E15:M15) -> 0 | N15: =SUM(O15:W15) -> 0
A16: 7 | D16: =SUM(E16:M16) -> 0 | N16: =SUM(O16:W16) -> 0
A17: 8 | D17: =SUM(E17:M17) -> 0 | N17: =SUM(O17:W17) -> 0
A18: 9 | D18: =SUM(E18:M18) -> 0 | N18: =SUM(O18:W18) -> 0
A19: Tổng | C19: ="Tổng năm 2020: "&(D19+N19) -> Tổng năm 2020: 271 | D19: =SUM(D10:D18) -> 182 | E19: =SUM(E10:E18) -> 25 | F19: =SUM(F10:F18) -> 58 | G19: =SUM(G10:G18) -> 58 | H19: =SUM(H10:H18) -> 7 | I19: =SUM(I10:I18) -> 18 | J19: =SUM(J10:J18) -> 3 | K19: =SUM(K10:K18) -> 7 | ... W19: =SUM(W10:W18) -> 0
E20: =E19+O19 -> 26 | F20: =F19+P19 -> 80 | G20: =G19+Q19 -> 102 | H20: =H19+R19 -> 10 | I20: =I19+S19 -> 34 | J20: =J19+T19 -> 3 | K20: =K19+U19 -> 10 | L20: =L19+V19 -> 0 | M20: =M19+W19 -> 6

Sheet Tổng hợp theo khoa
A1: Số lượng SVTN: Khoa Cơ khí | F1: Số lượng SVTN: Khoa Động lực
A2: Năm TN | B2: CĐ | C2: TC | D2: Tổng | F2: Năm TN | G2: CĐ | H2: TC | I2: Tổng
A3: 2017 | B3: ='2017'!E16 -> 107 | C3: ='2017'!M16 -> 28 | D3: =B3+C3 -> 135 | F3: 2017 | G3: ='2017'!F16 -> 153 | H3: ='2017'!N16 -> 23 | I3: =G3+H3 -> 176
A4: 2018 | B4: ='2018'!E20 -> 238 | C4: ='2018'!M20 -> 9 | D4: =B4+C4 -> 247 | F4: 2018 | G4: ='2018'!F20 -> 217 | H4: ='2018'!N20 -> 22 | I4: =G4+H4 -> 239
A5: 2019 | B5: ='2019'!E20 -> 470 | C5: ='2019'!N19 -> 16 | D5: =B5+C5 -> 486 | F5: 2019 | G5: ='2019'!F20 -> 775 | H5: ='2019'!O19 -> 42 | I5: =G5+H5 -> 817
A6: 2020 | B6: ='2020'!E19 -> 25 | C6: ='2020'!O19 -> 1 | D6: =B6+C6 -> 26 | F6: 2020 | G6: ='2020'!F19 -> 58 | H6: ='2020'!P19 -> 22 | I6: =G6+H6 -> 80
A8: Số lượng SVTN: Khoa Điện - Điện tử | F8: Số lượng SVTN: Khoa Nhiệt lạnh
A9: Năm TN | B9: CĐ | C9: TC | D9: Tổng | F9: Năm TN | G9: CĐ | H9: TC | I9: Tổng
A10: 2017 | B10: ='2017'!G16 -> 156 | C10: ='2017'!O16 -> 21 | D10: =B10+C10 -> 177 | F10: 2017 | G10: ='2017'!H16 -> 20 | H10: ='2017'!P16 -> 13 | I10: =G10+H10 -> 33
A11: 2018 | B11: ='2018'!G20 -> 188 | C11: ='2018'!O20 -> 41 | D11: =B11+C11 -> 229 | F11: 2018 | G11: ='2018'!H20 -> 67 | H11: ='2018'!P20 -> 14 | I11: =G11+H11 -> 81
A12: 2019 | B12: ='2019'!G20 -> 501 | C12: ='2019'!P19 -> 34 | D12: =B12+C12 -> 535 | F12: 2019 | G12: ='2019'!H19 -> 216 | H12: ='2019'!Q19 -> 10 | I12: =G12+H12 -> 226
A13: 2020 | B13: ='2020'!G19 -> 58 | C13: ='2020'!Q19 -> 44 | D13: =B13+C13 -> 102 | F13: 2020 | G13: ='2020'!H19 -> 7 | H13: ='2020'!R19 -> 3 | I13: =G13+H13 -> 10
A15: Số lượng SVTN: Khoa CNTT | F15: Số lượng SVTN: Khoa May-TT
A16: Năm TN | B16: CĐ | C16: TC | D16: Tổng | F16: Năm TN | G16: CĐ | H16: TC | I16: Tổng
A17: 2017 | B17: ='2017'!I16 -> 59 | C17: ='2017'!Q16 -> 11 | D17: =B17+C17 -> 70 | F17: 2017 | G17: ='2017'!J16 -> 29 | H17: ='2017'!R16 -> 7 | I17: =G17+H17 -> 36
A18: 2018 | B18: ='2018'!I20 -> 106 | C18: ='2018'!Q20 -> 34 | D18: =B18+C18 -> 140 | F18: 2018 | G18: ='2018'!J20 -> 148 | H18: ='2018'!R20 -> 3 | I18: =G18+H18 -> 151
A19: 2019 | B19: ='2019'!I19 -> 243 | C19: ='2019'!R19 -> 23 | D19: =B19+C19 -> 266 | F19: 2019 | G19: ='2019'!J19 -> 134 | H19: ='2019'!S19 -> 8 | I19: =G19+H19 -> 142
A20: 2020 | B20: ='2020'!I19 -> 18 | C20: ='2020'!S19 -> 16 | D20: =B20+C20 -> 34 | F20: 2020 | G20: ='2020'!J19 -> 3 | H20: ='2020'!T19 -> 0 | I20: =G20+H20 -> 3
A22: Số lượng SVTN: Khoa Kinh tế | F22: Số lượng SVTN: Khoa Xây dựng
A23: Năm TN | B23: CĐ | C23: TC | D23: Tổng | F23: Năm TN | G23: CĐ | H23: TC | I23: Tổng
A24: 2017 | B24: ='2017'!K16 -> 0 | C24: ='2017'!S16 -> 0 | D24: =B24+C24 -> 0 | F24: 2017 | G24: ='2017'!J23 -> 0 | H24: ='2017'!R23 -> 0 | I24: =G24+H24 -> 0
A25: 2018 | B25: ='2018'!K20 -> 11 | C25: ='2018'!S20 -> 12 | D25: =B25+C25 -> 23 | F25: 2018 | G25: ='2018'!J27 -> 0 | H25: ='2018'!R27 -> 0 | I25: =G25+H25 -> 0
A26: 2019 | B26: ='2019'!K19 -> 54 | C26: ='2019'!T19 -> 20 | D26: =B26+C26 -> 74 | F26: 2019 | G26: ='2019'!J26 -> 0 | H26: ='2019'!S26 -> 0 | I26: =G26+H26 -> 0
A27: 2020 | B27: ='2020'!K19 -> 7 | C27: ='2020'!U19 -> 3 | D27: =B27+C27 -> 10 | F27: 2020 | G27: ='2020'!L19 -> 0 | H27: ='2020'!V19 -> 0 | I27: =G27+H27 -> 0
A29: Số lượng SVTN: ngành Ngoại ngữ
A30: Năm TN | B30: CĐ | C30: TC | D30: Tổng
A31: 2017 | B31: ='2017'!I30 -> 0 | C31: ='2017'!Q30 -> 0 | D31: =B31+C31 -> 0
A32: 2018 | B32: ='2018'!I34 -> 0 | C32: ='2018'!Q34 -> 0 | D32: =B32+C32 -> 0
A33: 2019 | B33: ='2019'!L19 -> 39 | C33: 0 | D33: =B33+C33 -> 39
A34: 2020 | B34: ='2020'!M19 -> 6 | C34: ='2020'!W19 -> 0 | D34: =B34+C34 -> 6

Sheet Tổng hợp báo cáo Trưởng TT
A1: TỔNG HỢP SỐ LIỆU HSSV TỐT NGHIỆP TỪ 01/1/2017 - 08/8/2020
A2: 1. Số lượng SV tốt nghiệp theo các quyết định đã ban hành
A4: STT | B4: Khoa/ngành | C4: Số SV tốt nghiệp năm 2017 | F4: Số SV tốt nghiệp năm 2018 | I4: Số SV tốt nghiệp năm 2019 | L4: Số SV tốt nghiệp năm 2020
C5: CĐ | D5: TC | E5: Tổng | F5: CĐ | G5: TC | H5: Tổng | I5: CĐ | J5: TC | K5: Tổng | L5: CĐ | M5: TC | N5: Tổng
B6: Cơ khí | C6: ='2017'!E16 -> 107 | D6: ='2017'!M16 -> 28 | E6: =C6+D6 -> 135 | F6: ='2018'!E20 -> 238 | G6: ='2018'!M20 -> 9 | H6: =F6+G6 -> 247 | I6: ='2019'!E20 -> 470 | J6: ='2019'!N19 -> 16 | K6: =I6+J6 -> 486 | L6: ='2020'!E19 -> 25 | M6: ='2020'!O19 -> 1 | N6: =L6+M6 -> 26
B7: Động lực | C7: ='2017'!F16 -> 153 | D7: ='2017'!N16 -> 23 | E7: =C7+D7 -> 176 | F7: ='2018'!F20 -> 217 | G7: ='2018'!N20 -> 22 | H7: =F7+G7 -> 239 | I7: ='2019'!F20 -> 775 | J7: ='2019'!O19 -> 42 | K7: =I7+J7 -> 817 | L7: ='2020'!F19 -> 58 | M7: ='2020'!P19 -> 22 | N7: =L7+M7 -> 80
B8: Điện - Điện tử | C8: ='2017'!G16 -> 156 | D8: ='2017'!O16 -> 21 | E8: =C8+D8 -> 177 | F8: ='2018'!G20 -> 188 | G8: ='2018'!O20 -> 41 | H8: =F8+G8 -> 229 | I8: ='2019'!G20 -> 501 | J8: ='2019'!P19 -> 34 | K8: =I8+J8 -> 535 | L8: ='2020'!G19 -> 58 | M8: ='2020'!Q19 -> 44 | N8: =L8+M8 -> 102
B9: Nhiệt lạnh | C9: ='2017'!H16 -> 20 | D9: ='2017'!P16 -> 13 | E9: =C9+D9 -> 33 | F9: ='2018'!H20 -> 67 | G9: ='2018'!P20 -> 14 | H9: =F9+G9 -> 81 | I9: ='2019'!H19 -> 216 | J9: ='2019'!Q19 -> 10 | K9: =I9+J9 -> 226 | L9: ='2020'!H19 -> 7 | M9: ='2020'!R19 -> 3 | N9: =L9+M9 -> 10
B10: CNTT | C10: ='2017'!I16 -> 59 | D10: ='2017'!Q16 -> 11 | E10: =C10+D10 -> 70 | F10: ='2018'!I20 -> 106 | G10: ='2018'!Q20 -> 34 | H10: =F10+G10 -> 140 | I10: ='2019'!I19 -> 243 | J10: ='2019'!R19 -> 23 | K10: =I10+J10 -> 266 | L10: ='2020'!I19 -> 18 | M10: ='2020'!S19 -> 16 | N10: =L10+M10 -> 34
B11: May - TT | C11: ='2017'!J16 -> 29 | D11: ='2017'!R16 -> 7 | E11: =C11+D11 -> 36 | F11: ='2018'!J20 -> 148 | G11: ='2018'!R20 -> 3 | H11: =F11+G11 -> 151 | I11: ='2019'!J19 -> 134 | J11: ='2019'!S19 -> 8 | K11: =I11+J11 -> 142 | L11: ='2020'!J19 -> 3 | M11: ='2020'!T19 -> 0 | N11: =L11+M11 -> 3
B12: Kinh tế | C12: ='2017'!K16 -> 0 | D12: ='2017'!S16 -> 0 | E12: =C12+D12 -> 0 | F12: ='2018'!K20 -> 11 | G12: ='2018'!S20 -> 12 | H12: =F12+G12 -> 23 | I12: ='2019'!K19 -> 54 | J12: ='2019'!T19 -> 20 | K12: =I12+J12 -> 74 | L12: ='2020'!K19 -> 7 | M12: ='2020'!U19 -> 3 | N12: =L12+M12 -> 10
B13: Xây dựng | C13: ='2017'!J23 -> 0 | D13: ='2017'!R23 -> 0 | E13: =C13+D13 -> 0 | F13: ='2018'!J27 -> 0 | G13: ='2018'!R27 -> 0 | H13: =F13+G13 -> 0 | I13: ='2019'!J26 -> 0 | J13: ='2019'!S26 -> 0 | K13: =I13+J13 -> 0 | L13: ='2020'!L19 -> 0 | M13: ='2020'!V19 -> 0 | N13: =L13+M13 -> 0
B14: Ngoại ngữ | C14: ='2017'!I30 -> 0 | D14: ='2017'!Q30 -> 0 | E14: =C14+D14 -> 0 | F14: ='2018'!I34 -> 0 | G14: ='2018'!Q34 -> 0 | H14: =F14+G14 -> 0 | I14: ='2019'!L19 -> 39 | J14: ='2019'!U19 -> 0 | K14: =I14+J14 -> 39 | L14: ='2020'!M19 -> 6 | M14: ='2020'!W19 -> 0 | N14: =L14+M14 -> 6
A15: Tổng | C15: =SUM(C6:C14) -> 524 | D15: =SUM(D6:D14) -> 103 | E15: =SUM(E6:E14) -> 627 | F15: =SUM(F6:F14) -> 975 | G15: =SUM(G6:G14) -> 135 | H15: =SUM(H6:H14) -> 1110 | I15: =SUM(I6:I14) -> 2432 | J15: =SUM(J6:J14) -> 153 | ... M15: =SUM(M6:M14) -> 89 | N15: =L15+M15 -> 271
A17: 2. Tổng số phiếu khảo sát việc làm các năm
A19: STT | B19: Năm khảo sát | C19: Số lượng
A20: 1 | B20: 2017 | C20: 525
A21: 2 | B21: 2018 | C21: 950
A22: 3 | B22: 2019 | C22: 1409
A23: 4 | B23: 2020 | C23: Chưa thống kê

Sheet Sheet3
